BEGIN:VCALENDAR
VERSION:2.0
PRODID:-//The Edge District VA - ECPv6.15.18//NONSGML v1.0//EN
CALSCALE:GREGORIAN
METHOD:PUBLISH
X-WR-CALNAME:The Edge District VA
X-ORIGINAL-URL:https://edgedistrictva.com
X-WR-CALDESC:Events for The Edge District VA
REFRESH-INTERVAL;VALUE=DURATION:PT1H
X-Robots-Tag:noindex
X-PUBLISHED-TTL:PT1H
BEGIN:VTIMEZONE
TZID:America/New_York
BEGIN:DAYLIGHT
TZOFFSETFROM:-0500
TZOFFSETTO:-0400
TZNAME:EDT
DTSTART:20210314T070000
END:DAYLIGHT
BEGIN:STANDARD
TZOFFSETFROM:-0400
TZOFFSETTO:-0500
TZNAME:EST
DTSTART:20211107T060000
END:STANDARD
BEGIN:DAYLIGHT
TZOFFSETFROM:-0500
TZOFFSETTO:-0400
TZNAME:EDT
DTSTART:20220313T070000
END:DAYLIGHT
BEGIN:STANDARD
TZOFFSETFROM:-0400
TZOFFSETTO:-0500
TZNAME:EST
DTSTART:20221106T060000
END:STANDARD
BEGIN:DAYLIGHT
TZOFFSETFROM:-0500
TZOFFSETTO:-0400
TZNAME:EDT
DTSTART:20230312T070000
END:DAYLIGHT
BEGIN:STANDARD
TZOFFSETFROM:-0400
TZOFFSETTO:-0500
TZNAME:EST
DTSTART:20231105T060000
END:STANDARD
BEGIN:DAYLIGHT
TZOFFSETFROM:-0500
TZOFFSETTO:-0400
TZNAME:EDT
DTSTART:20240310T070000
END:DAYLIGHT
BEGIN:STANDARD
TZOFFSETFROM:-0400
TZOFFSETTO:-0500
TZNAME:EST
DTSTART:20241103T060000
END:STANDARD
END:VTIMEZONE
BEGIN:VEVENT
DTSTART;TZID=America/New_York:20231117T180000
DTEND;TZID=America/New_York:20231117T200000
DTSTAMP:20260421T191823
CREATED:20231116T215146Z
LAST-MODIFIED:20231116T215313Z
UID:10000419-1700244000-1700251200@edgedistrictva.com
SUMMARY:Chillen with my Gnomies Paint Night @ Column 15 Coffee
DESCRIPTION:Join us Friday\, November 17th\, for a paint and sip at Column 15 Coffee. In honor of “Trolls Band Together” coming out in November\, we will be guiding you step-by-step in creating a cute Winter Gnome of your very own!\nEach person can have a choice of a hand crafted cocoa bomb or speciality drink from our special paint night menu. \nIMPORTANT INFO: \n*For ages 5+. Kids and adults are welcome! Parents/Guardians MUST accompany children. \n*There will be a plethora of color choices and ways to get creative to make your masterpiece unique! \n*Price includes all supplies needed\, step-by-step instruction\, a hot cocoa bomb or a drink of choice (up to $7) and a ton of fun! \n*Try to arrive 10-15 min early to get your order in and find your seat. \n*To avoid ticketleap fee: Use $ apps to send $38 x # of tickets & BE SURE to put “Name\, Email Address\, Column 15 11/17” in description. Apps below. \n• Venmo: crush-it-on-canvas \n• CashApp: $crushitoncanvas \n• PayPal: @crushitoncanvas \n*Feel free to email crushitoncanvasllc@gmail.com with any questions you may have! \nFor tickets visit : https://fb.me/e/1CIgtDSQC \nPress Contact: Brittany Wyatt \nEmail: contact@column15.com
URL:https://edgedistrictva.com/event/chillen-with-my-gnomies-paint-night-column-15-coffee/
CATEGORIES:Cocktails,Crafts
ATTACH;FMTTYPE=image/jpeg:https://edgedistrictva.com/wp-content/uploads/2023/11/Paint-and-Sip-at-Column-15-111723.jpg
END:VEVENT
BEGIN:VEVENT
DTSTART;TZID=America/New_York:20221218T140000
DTEND;TZID=America/New_York:20221218T170000
DTSTAMP:20260421T191823
CREATED:20221216T191513Z
LAST-MODIFIED:20221216T191513Z
UID:10000290-1671372000-1671382800@edgedistrictva.com
SUMMARY:Gingerbread Houses and Holiday Crafts with Santa
DESCRIPTION:As part of his annual pre-Christmas media tour\, the one and only Santa Claus will be at Column 15 to double check his list and take a few pictures with the people. In fact\, he’ll be here twice! Anyone is welcome to stop by on December 18th to make gingerbread houses\, do holiday crafts and grab a picture with Santa. Gingerbread houses and holiday crafts will be hosted by our neighbors Catalillies Play Café!
URL:https://edgedistrictva.com/event/gingerbread-houses-and-holiday-crafts-with-santa/
LOCATION:Column 15\, 701 R\, Merrimac Trail\, Williamsburg\, VA\, 23185\, United States
CATEGORIES:Crafts
ATTACH;FMTTYPE=image/jpeg:https://edgedistrictva.com/wp-content/uploads/2022/12/Column15-Santa-Gingerbread-Houses-Event-Image.jpg
END:VEVENT
END:VCALENDAR