BEGIN:VCALENDAR
VERSION:2.0
PRODID:-//The Edge District VA - ECPv6.15.18//NONSGML v1.0//EN
CALSCALE:GREGORIAN
METHOD:PUBLISH
X-ORIGINAL-URL:https://edgedistrictva.com
X-WR-CALDESC:Events for The Edge District VA
REFRESH-INTERVAL;VALUE=DURATION:PT1H
X-Robots-Tag:noindex
X-PUBLISHED-TTL:PT1H
BEGIN:VTIMEZONE
TZID:America/New_York
BEGIN:DAYLIGHT
TZOFFSETFROM:-0500
TZOFFSETTO:-0400
TZNAME:EDT
DTSTART:20220313T070000
END:DAYLIGHT
BEGIN:STANDARD
TZOFFSETFROM:-0400
TZOFFSETTO:-0500
TZNAME:EST
DTSTART:20221106T060000
END:STANDARD
BEGIN:DAYLIGHT
TZOFFSETFROM:-0500
TZOFFSETTO:-0400
TZNAME:EDT
DTSTART:20230312T070000
END:DAYLIGHT
BEGIN:STANDARD
TZOFFSETFROM:-0400
TZOFFSETTO:-0500
TZNAME:EST
DTSTART:20231105T060000
END:STANDARD
BEGIN:DAYLIGHT
TZOFFSETFROM:-0500
TZOFFSETTO:-0400
TZNAME:EDT
DTSTART:20240310T070000
END:DAYLIGHT
BEGIN:STANDARD
TZOFFSETFROM:-0400
TZOFFSETTO:-0500
TZNAME:EST
DTSTART:20241103T060000
END:STANDARD
END:VTIMEZONE
BEGIN:VEVENT
DTSTART;TZID=America/New_York:20230830T180000
DTEND;TZID=America/New_York:20230830T184500
DTSTAMP:20260425T115453
CREATED:20230811T134029Z
LAST-MODIFIED:20230811T134029Z
UID:10000352-1693418400-1693421100@edgedistrictva.com
SUMMARY:School Age Yoga at Catalillies
DESCRIPTION:Yoga practice focusing on poses\, meditation\, and mindfulness geared towards children 5+
URL:https://edgedistrictva.com/event/school-age-yoga-at-catalillies/2023-08-30/
LOCATION:Catalillies Play Cafe\, 551 Merrimac Trail A\, Williamsburg\, VA\, 23185
CATEGORIES:Family,Fitness
ATTACH;FMTTYPE=image/jpeg:https://edgedistrictva.com/wp-content/uploads/2023/08/364025498_261449146650580_4212928988690835547_n.jpg
END:VEVENT
BEGIN:VEVENT
DTSTART;TZID=America/New_York:20230823T180000
DTEND;TZID=America/New_York:20230823T184500
DTSTAMP:20260425T115453
CREATED:20230811T134029Z
LAST-MODIFIED:20230811T134029Z
UID:10000351-1692813600-1692816300@edgedistrictva.com
SUMMARY:School Age Yoga at Catalillies
DESCRIPTION:Yoga practice focusing on poses\, meditation\, and mindfulness geared towards children 5+
URL:https://edgedistrictva.com/event/school-age-yoga-at-catalillies/2023-08-23/
LOCATION:Catalillies Play Cafe\, 551 Merrimac Trail A\, Williamsburg\, VA\, 23185
CATEGORIES:Family,Fitness
ATTACH;FMTTYPE=image/jpeg:https://edgedistrictva.com/wp-content/uploads/2023/08/364025498_261449146650580_4212928988690835547_n.jpg
END:VEVENT
END:VCALENDAR