BEGIN:VCALENDAR
VERSION:2.0
PRODID:-//The Edge District VA - ECPv6.15.18//NONSGML v1.0//EN
CALSCALE:GREGORIAN
METHOD:PUBLISH
X-ORIGINAL-URL:https://edgedistrictva.com
X-WR-CALDESC:Events for The Edge District VA
REFRESH-INTERVAL;VALUE=DURATION:PT1H
X-Robots-Tag:noindex
X-PUBLISHED-TTL:PT1H
BEGIN:VTIMEZONE
TZID:America/New_York
BEGIN:DAYLIGHT
TZOFFSETFROM:-0500
TZOFFSETTO:-0400
TZNAME:EDT
DTSTART:20220313T070000
END:DAYLIGHT
BEGIN:STANDARD
TZOFFSETFROM:-0400
TZOFFSETTO:-0500
TZNAME:EST
DTSTART:20221106T060000
END:STANDARD
BEGIN:DAYLIGHT
TZOFFSETFROM:-0500
TZOFFSETTO:-0400
TZNAME:EDT
DTSTART:20230312T070000
END:DAYLIGHT
BEGIN:STANDARD
TZOFFSETFROM:-0400
TZOFFSETTO:-0500
TZNAME:EST
DTSTART:20231105T060000
END:STANDARD
BEGIN:DAYLIGHT
TZOFFSETFROM:-0500
TZOFFSETTO:-0400
TZNAME:EDT
DTSTART:20240310T070000
END:DAYLIGHT
BEGIN:STANDARD
TZOFFSETFROM:-0400
TZOFFSETTO:-0500
TZNAME:EST
DTSTART:20241103T060000
END:STANDARD
END:VTIMEZONE
BEGIN:VEVENT
DTSTART;TZID=America/New_York:20231223T130000
DTEND;TZID=America/New_York:20231223T150000
DTSTAMP:20260421T055146
CREATED:20231214T161715Z
LAST-MODIFIED:20231214T161715Z
UID:10000420-1703336400-1703343600@edgedistrictva.com
SUMMARY:Santa on Second Street
DESCRIPTION:Whether you’ve been naughty or nice\, Santa Claus is coming to town on Saturday\, December 23. \nJoin Mr. & Mrs. Claus at the Virginia Beer Company from 1pm to 3pm for a jolly good time in support of The Edge District. Make a $5 donation to the Edge and receive a digital family photo with the Clauses before they head back to the North Pole for their biggest night of the year. \nEnjoy 20 oz. “Nice List” pint specials (even if you’ve been a bit naughty this year) of Evil Santa and Peppermint Hot Chocolate Evil Santa pours all day long. \nAnd if the day wasn’t already delicious enough\, our Edge neighbors from Old City BBQ will be onsite serving up world-class BBQ throughout the day. \nSo\, make plans to visit the Virginia Beer Company here in The Edge District on Saturday\, December 23 and join the jolliest bunch and friends this side of Second Street.
URL:https://edgedistrictva.com/event/santa-on-second-street/
LOCATION:Virginia Beer Company\, 401 Second Street\, Williamsburg\, VA\, 23185\, United States
CATEGORIES:Beer,Fundraiser,Meet and Greet
ATTACH;FMTTYPE=image/jpeg:https://edgedistrictva.com/wp-content/uploads/2023/12/Santa-on-Second-02.jpg
END:VEVENT
BEGIN:VEVENT
DTSTART;TZID=America/New_York:20231008T150000
DTEND;TZID=America/New_York:20231008T170000
DTSTAMP:20260421T055146
CREATED:20231006T155712Z
LAST-MODIFIED:20231006T155926Z
UID:10000418-1696777200-1696784400@edgedistrictva.com
SUMMARY:Coffee Meet and Greet with Colonial Iron Gym
DESCRIPTION:On Sunday October 8th from 3pm – 5pm you are invited to get an exclusive look inside the newest gym opening in Williamsburg VA. The owners and trainers of Colonial Iron Gym will be hosting a meet and greet at Column 15 Coffee. Sip some coffee\, take advantage of discounted membership rates\, enter the weekly pass raffle and be among the first to view the inside of the gym.  \nColonial Iron Gym will be showing tours of the gym at 4pm and at 5pm!  \nFor more details visit the FB event page!
URL:https://edgedistrictva.com/event/coffee-meet-and-greet-with-colonial-iron-gym/
LOCATION:Column 15\, 701 R\, Merrimac Trail\, Williamsburg\, VA\, 23185\, United States
CATEGORIES:Meet and Greet
ATTACH;FMTTYPE=image/jpeg:https://edgedistrictva.com/wp-content/uploads/2023/10/Coffee-Meet-Greet-colonial-Iron-Gym.jpg
END:VEVENT
END:VCALENDAR