BEGIN:VCALENDAR
VERSION:2.0
PRODID:-//The Edge District VA - ECPv6.15.18//NONSGML v1.0//EN
CALSCALE:GREGORIAN
METHOD:PUBLISH
X-ORIGINAL-URL:https://edgedistrictva.com
X-WR-CALDESC:Events for The Edge District VA
REFRESH-INTERVAL;VALUE=DURATION:PT1H
X-Robots-Tag:noindex
X-PUBLISHED-TTL:PT1H
BEGIN:VTIMEZONE
TZID:America/New_York
BEGIN:DAYLIGHT
TZOFFSETFROM:-0500
TZOFFSETTO:-0400
TZNAME:EDT
DTSTART:20200308T070000
END:DAYLIGHT
BEGIN:STANDARD
TZOFFSETFROM:-0400
TZOFFSETTO:-0500
TZNAME:EST
DTSTART:20201101T060000
END:STANDARD
BEGIN:DAYLIGHT
TZOFFSETFROM:-0500
TZOFFSETTO:-0400
TZNAME:EDT
DTSTART:20210314T070000
END:DAYLIGHT
BEGIN:STANDARD
TZOFFSETFROM:-0400
TZOFFSETTO:-0500
TZNAME:EST
DTSTART:20211107T060000
END:STANDARD
BEGIN:DAYLIGHT
TZOFFSETFROM:-0500
TZOFFSETTO:-0400
TZNAME:EDT
DTSTART:20220313T070000
END:DAYLIGHT
BEGIN:STANDARD
TZOFFSETFROM:-0400
TZOFFSETTO:-0500
TZNAME:EST
DTSTART:20221106T060000
END:STANDARD
END:VTIMEZONE
BEGIN:VEVENT
DTSTART;TZID=America/New_York:20210829T120000
DTEND;TZID=America/New_York:20210829T210000
DTSTAMP:20260425T171727
CREATED:20230105T220555Z
LAST-MODIFIED:20230105T220555Z
UID:10000064-1630238400-1630270800@edgedistrictva.com
SUMMARY:Half Price Fills at Virginia Beer Company!
DESCRIPTION:Due to overwhelming demand\, Virginia Beer Company will be continuing to offer HALF PRICE FILLS every Wednesday (3-9 pm) and every Sunday (12-9 pm) throughout 2021!
URL:https://edgedistrictva.com/event/half-price-fills-at-virginia-beer-company/2021-08-29/
LOCATION:Virginia Beer Company\, 401 Second Street\, Williamsburg\, VA\, 23185\, United States
CATEGORIES:Beer
ATTACH;FMTTYPE=image/png:https://edgedistrictva.com/wp-content/uploads/2021/03/HalfPriceGrowlerFills7_16_20.png
END:VEVENT
BEGIN:VEVENT
DTSTART;TZID=America/New_York:20210825T150000
DTEND;TZID=America/New_York:20210825T210000
DTSTAMP:20260425T171727
CREATED:20210312T161934Z
LAST-MODIFIED:20210312T223707Z
UID:10000025-1629903600-1629925200@edgedistrictva.com
SUMMARY:Half Price Fills at Virginia Beer Company!
DESCRIPTION:Due to overwhelming demand\, Virginia Beer Company will be continuing to offer HALF PRICE FILLS every Wednesday (3-9 pm) and every Sunday (12-9 pm) throughout 2021!
URL:https://edgedistrictva.com/event/half-price-fills-at-virginia-beer-company/2021-08-25/
LOCATION:Virginia Beer Company\, 401 Second Street\, Williamsburg\, VA\, 23185\, United States
CATEGORIES:Beer
ATTACH;FMTTYPE=image/png:https://edgedistrictva.com/wp-content/uploads/2021/03/HalfPriceGrowlerFills7_16_20.png
END:VEVENT
BEGIN:VEVENT
DTSTART;TZID=America/New_York:20210822T120000
DTEND;TZID=America/New_York:20210822T210000
DTSTAMP:20260425T171727
CREATED:20230105T220555Z
LAST-MODIFIED:20230105T220555Z
UID:10000063-1629633600-1629666000@edgedistrictva.com
SUMMARY:Half Price Fills at Virginia Beer Company!
DESCRIPTION:Due to overwhelming demand\, Virginia Beer Company will be continuing to offer HALF PRICE FILLS every Wednesday (3-9 pm) and every Sunday (12-9 pm) throughout 2021!
URL:https://edgedistrictva.com/event/half-price-fills-at-virginia-beer-company/2021-08-22/
LOCATION:Virginia Beer Company\, 401 Second Street\, Williamsburg\, VA\, 23185\, United States
CATEGORIES:Beer
ATTACH;FMTTYPE=image/png:https://edgedistrictva.com/wp-content/uploads/2021/03/HalfPriceGrowlerFills7_16_20.png
END:VEVENT
BEGIN:VEVENT
DTSTART;TZID=America/New_York:20210819T170000
DTEND;TZID=America/New_York:20210819T200000
DTSTAMP:20260425T171727
CREATED:20210811T203013Z
LAST-MODIFIED:20210811T203013Z
UID:10000287-1629392400-1629403200@edgedistrictva.com
SUMMARY:Karaoke Night at Column 15
DESCRIPTION:Come join us for an evening of sipping coffee and mocktails while singing your favorite songs provided by SueRay DeeJay.
URL:https://edgedistrictva.com/event/karaoke-night-at-column-15/
LOCATION:Column 15\, 701 R\, Merrimac Trail\, Williamsburg\, VA\, 23185\, United States
CATEGORIES:Coffee,Karaoke
ATTACH;FMTTYPE=image/jpeg:https://edgedistrictva.com/wp-content/uploads/2021/08/Column-15-upcoming-event-1080.jpg
END:VEVENT
BEGIN:VEVENT
DTSTART;TZID=America/New_York:20210818T150000
DTEND;TZID=America/New_York:20210818T210000
DTSTAMP:20260425T171727
CREATED:20210312T161934Z
LAST-MODIFIED:20210312T223707Z
UID:10000024-1629298800-1629320400@edgedistrictva.com
SUMMARY:Half Price Fills at Virginia Beer Company!
DESCRIPTION:Due to overwhelming demand\, Virginia Beer Company will be continuing to offer HALF PRICE FILLS every Wednesday (3-9 pm) and every Sunday (12-9 pm) throughout 2021!
URL:https://edgedistrictva.com/event/half-price-fills-at-virginia-beer-company/2021-08-18/
LOCATION:Virginia Beer Company\, 401 Second Street\, Williamsburg\, VA\, 23185\, United States
CATEGORIES:Beer
ATTACH;FMTTYPE=image/png:https://edgedistrictva.com/wp-content/uploads/2021/03/HalfPriceGrowlerFills7_16_20.png
END:VEVENT
BEGIN:VEVENT
DTSTART;TZID=America/New_York:20210815T120000
DTEND;TZID=America/New_York:20210815T210000
DTSTAMP:20260425T171727
CREATED:20230105T220555Z
LAST-MODIFIED:20230105T220555Z
UID:10000062-1629028800-1629061200@edgedistrictva.com
SUMMARY:Half Price Fills at Virginia Beer Company!
DESCRIPTION:Due to overwhelming demand\, Virginia Beer Company will be continuing to offer HALF PRICE FILLS every Wednesday (3-9 pm) and every Sunday (12-9 pm) throughout 2021!
URL:https://edgedistrictva.com/event/half-price-fills-at-virginia-beer-company/2021-08-15/
LOCATION:Virginia Beer Company\, 401 Second Street\, Williamsburg\, VA\, 23185\, United States
CATEGORIES:Beer
ATTACH;FMTTYPE=image/png:https://edgedistrictva.com/wp-content/uploads/2021/03/HalfPriceGrowlerFills7_16_20.png
END:VEVENT
BEGIN:VEVENT
DTSTART;TZID=America/New_York:20210811T150000
DTEND;TZID=America/New_York:20210811T210000
DTSTAMP:20260425T171727
CREATED:20210312T161934Z
LAST-MODIFIED:20210312T223707Z
UID:10000023-1628694000-1628715600@edgedistrictva.com
SUMMARY:Half Price Fills at Virginia Beer Company!
DESCRIPTION:Due to overwhelming demand\, Virginia Beer Company will be continuing to offer HALF PRICE FILLS every Wednesday (3-9 pm) and every Sunday (12-9 pm) throughout 2021!
URL:https://edgedistrictva.com/event/half-price-fills-at-virginia-beer-company/2021-08-11/
LOCATION:Virginia Beer Company\, 401 Second Street\, Williamsburg\, VA\, 23185\, United States
CATEGORIES:Beer
ATTACH;FMTTYPE=image/png:https://edgedistrictva.com/wp-content/uploads/2021/03/HalfPriceGrowlerFills7_16_20.png
END:VEVENT
BEGIN:VEVENT
DTSTART;TZID=America/New_York:20210808T120000
DTEND;TZID=America/New_York:20210808T210000
DTSTAMP:20260425T171727
CREATED:20230105T220555Z
LAST-MODIFIED:20230105T220555Z
UID:10000061-1628424000-1628456400@edgedistrictva.com
SUMMARY:Half Price Fills at Virginia Beer Company!
DESCRIPTION:Due to overwhelming demand\, Virginia Beer Company will be continuing to offer HALF PRICE FILLS every Wednesday (3-9 pm) and every Sunday (12-9 pm) throughout 2021!
URL:https://edgedistrictva.com/event/half-price-fills-at-virginia-beer-company/2021-08-08/
LOCATION:Virginia Beer Company\, 401 Second Street\, Williamsburg\, VA\, 23185\, United States
CATEGORIES:Beer
ATTACH;FMTTYPE=image/png:https://edgedistrictva.com/wp-content/uploads/2021/03/HalfPriceGrowlerFills7_16_20.png
END:VEVENT
BEGIN:VEVENT
DTSTART;TZID=America/New_York:20210804T150000
DTEND;TZID=America/New_York:20210804T210000
DTSTAMP:20260425T171727
CREATED:20210312T161934Z
LAST-MODIFIED:20210312T223707Z
UID:10000022-1628089200-1628110800@edgedistrictva.com
SUMMARY:Half Price Fills at Virginia Beer Company!
DESCRIPTION:Due to overwhelming demand\, Virginia Beer Company will be continuing to offer HALF PRICE FILLS every Wednesday (3-9 pm) and every Sunday (12-9 pm) throughout 2021!
URL:https://edgedistrictva.com/event/half-price-fills-at-virginia-beer-company/2021-08-04/
LOCATION:Virginia Beer Company\, 401 Second Street\, Williamsburg\, VA\, 23185\, United States
CATEGORIES:Beer
ATTACH;FMTTYPE=image/png:https://edgedistrictva.com/wp-content/uploads/2021/03/HalfPriceGrowlerFills7_16_20.png
END:VEVENT
BEGIN:VEVENT
DTSTART;TZID=America/New_York:20210801T120000
DTEND;TZID=America/New_York:20210801T210000
DTSTAMP:20260425T171727
CREATED:20230105T220555Z
LAST-MODIFIED:20230105T220555Z
UID:10000060-1627819200-1627851600@edgedistrictva.com
SUMMARY:Half Price Fills at Virginia Beer Company!
DESCRIPTION:Due to overwhelming demand\, Virginia Beer Company will be continuing to offer HALF PRICE FILLS every Wednesday (3-9 pm) and every Sunday (12-9 pm) throughout 2021!
URL:https://edgedistrictva.com/event/half-price-fills-at-virginia-beer-company/2021-08-01/
LOCATION:Virginia Beer Company\, 401 Second Street\, Williamsburg\, VA\, 23185\, United States
CATEGORIES:Beer
ATTACH;FMTTYPE=image/png:https://edgedistrictva.com/wp-content/uploads/2021/03/HalfPriceGrowlerFills7_16_20.png
END:VEVENT
BEGIN:VEVENT
DTSTART;TZID=America/New_York:20210728T150000
DTEND;TZID=America/New_York:20210728T210000
DTSTAMP:20260425T171727
CREATED:20210312T161934Z
LAST-MODIFIED:20210312T223707Z
UID:10000021-1627484400-1627506000@edgedistrictva.com
SUMMARY:Half Price Fills at Virginia Beer Company!
DESCRIPTION:Due to overwhelming demand\, Virginia Beer Company will be continuing to offer HALF PRICE FILLS every Wednesday (3-9 pm) and every Sunday (12-9 pm) throughout 2021!
URL:https://edgedistrictva.com/event/half-price-fills-at-virginia-beer-company/2021-07-28/
LOCATION:Virginia Beer Company\, 401 Second Street\, Williamsburg\, VA\, 23185\, United States
CATEGORIES:Beer
ATTACH;FMTTYPE=image/png:https://edgedistrictva.com/wp-content/uploads/2021/03/HalfPriceGrowlerFills7_16_20.png
END:VEVENT
BEGIN:VEVENT
DTSTART;TZID=America/New_York:20210725T120000
DTEND;TZID=America/New_York:20210725T210000
DTSTAMP:20260425T171727
CREATED:20230105T220555Z
LAST-MODIFIED:20230105T220555Z
UID:10000059-1627214400-1627246800@edgedistrictva.com
SUMMARY:Half Price Fills at Virginia Beer Company!
DESCRIPTION:Due to overwhelming demand\, Virginia Beer Company will be continuing to offer HALF PRICE FILLS every Wednesday (3-9 pm) and every Sunday (12-9 pm) throughout 2021!
URL:https://edgedistrictva.com/event/half-price-fills-at-virginia-beer-company/2021-07-25/
LOCATION:Virginia Beer Company\, 401 Second Street\, Williamsburg\, VA\, 23185\, United States
CATEGORIES:Beer
ATTACH;FMTTYPE=image/png:https://edgedistrictva.com/wp-content/uploads/2021/03/HalfPriceGrowlerFills7_16_20.png
END:VEVENT
BEGIN:VEVENT
DTSTART;TZID=America/New_York:20210721T150000
DTEND;TZID=America/New_York:20210721T210000
DTSTAMP:20260425T171727
CREATED:20210312T161934Z
LAST-MODIFIED:20210312T223707Z
UID:10000020-1626879600-1626901200@edgedistrictva.com
SUMMARY:Half Price Fills at Virginia Beer Company!
DESCRIPTION:Due to overwhelming demand\, Virginia Beer Company will be continuing to offer HALF PRICE FILLS every Wednesday (3-9 pm) and every Sunday (12-9 pm) throughout 2021!
URL:https://edgedistrictva.com/event/half-price-fills-at-virginia-beer-company/2021-07-21/
LOCATION:Virginia Beer Company\, 401 Second Street\, Williamsburg\, VA\, 23185\, United States
CATEGORIES:Beer
ATTACH;FMTTYPE=image/png:https://edgedistrictva.com/wp-content/uploads/2021/03/HalfPriceGrowlerFills7_16_20.png
END:VEVENT
BEGIN:VEVENT
DTSTART;TZID=America/New_York:20210718T120000
DTEND;TZID=America/New_York:20210718T210000
DTSTAMP:20260425T171727
CREATED:20230105T220555Z
LAST-MODIFIED:20230105T220555Z
UID:10000058-1626609600-1626642000@edgedistrictva.com
SUMMARY:Half Price Fills at Virginia Beer Company!
DESCRIPTION:Due to overwhelming demand\, Virginia Beer Company will be continuing to offer HALF PRICE FILLS every Wednesday (3-9 pm) and every Sunday (12-9 pm) throughout 2021!
URL:https://edgedistrictva.com/event/half-price-fills-at-virginia-beer-company/2021-07-18/
LOCATION:Virginia Beer Company\, 401 Second Street\, Williamsburg\, VA\, 23185\, United States
CATEGORIES:Beer
ATTACH;FMTTYPE=image/png:https://edgedistrictva.com/wp-content/uploads/2021/03/HalfPriceGrowlerFills7_16_20.png
END:VEVENT
BEGIN:VEVENT
DTSTART;TZID=America/New_York:20210714T150000
DTEND;TZID=America/New_York:20210714T210000
DTSTAMP:20260425T171727
CREATED:20210312T161934Z
LAST-MODIFIED:20210312T223707Z
UID:10000019-1626274800-1626296400@edgedistrictva.com
SUMMARY:Half Price Fills at Virginia Beer Company!
DESCRIPTION:Due to overwhelming demand\, Virginia Beer Company will be continuing to offer HALF PRICE FILLS every Wednesday (3-9 pm) and every Sunday (12-9 pm) throughout 2021!
URL:https://edgedistrictva.com/event/half-price-fills-at-virginia-beer-company/2021-07-14/
LOCATION:Virginia Beer Company\, 401 Second Street\, Williamsburg\, VA\, 23185\, United States
CATEGORIES:Beer
ATTACH;FMTTYPE=image/png:https://edgedistrictva.com/wp-content/uploads/2021/03/HalfPriceGrowlerFills7_16_20.png
END:VEVENT
BEGIN:VEVENT
DTSTART;TZID=America/New_York:20210711T120000
DTEND;TZID=America/New_York:20210711T210000
DTSTAMP:20260425T171727
CREATED:20230105T220555Z
LAST-MODIFIED:20230105T220555Z
UID:10000057-1626004800-1626037200@edgedistrictva.com
SUMMARY:Half Price Fills at Virginia Beer Company!
DESCRIPTION:Due to overwhelming demand\, Virginia Beer Company will be continuing to offer HALF PRICE FILLS every Wednesday (3-9 pm) and every Sunday (12-9 pm) throughout 2021!
URL:https://edgedistrictva.com/event/half-price-fills-at-virginia-beer-company/2021-07-11/
LOCATION:Virginia Beer Company\, 401 Second Street\, Williamsburg\, VA\, 23185\, United States
CATEGORIES:Beer
ATTACH;FMTTYPE=image/png:https://edgedistrictva.com/wp-content/uploads/2021/03/HalfPriceGrowlerFills7_16_20.png
END:VEVENT
BEGIN:VEVENT
DTSTART;TZID=America/New_York:20210707T150000
DTEND;TZID=America/New_York:20210707T210000
DTSTAMP:20260425T171727
CREATED:20210312T161934Z
LAST-MODIFIED:20210312T223707Z
UID:10000018-1625670000-1625691600@edgedistrictva.com
SUMMARY:Half Price Fills at Virginia Beer Company!
DESCRIPTION:Due to overwhelming demand\, Virginia Beer Company will be continuing to offer HALF PRICE FILLS every Wednesday (3-9 pm) and every Sunday (12-9 pm) throughout 2021!
URL:https://edgedistrictva.com/event/half-price-fills-at-virginia-beer-company/2021-07-07/
LOCATION:Virginia Beer Company\, 401 Second Street\, Williamsburg\, VA\, 23185\, United States
CATEGORIES:Beer
ATTACH;FMTTYPE=image/png:https://edgedistrictva.com/wp-content/uploads/2021/03/HalfPriceGrowlerFills7_16_20.png
END:VEVENT
BEGIN:VEVENT
DTSTART;TZID=America/New_York:20210704T120000
DTEND;TZID=America/New_York:20210704T210000
DTSTAMP:20260425T171727
CREATED:20230105T220555Z
LAST-MODIFIED:20230105T220555Z
UID:10000056-1625400000-1625432400@edgedistrictva.com
SUMMARY:Half Price Fills at Virginia Beer Company!
DESCRIPTION:Due to overwhelming demand\, Virginia Beer Company will be continuing to offer HALF PRICE FILLS every Wednesday (3-9 pm) and every Sunday (12-9 pm) throughout 2021!
URL:https://edgedistrictva.com/event/half-price-fills-at-virginia-beer-company/2021-07-04/
LOCATION:Virginia Beer Company\, 401 Second Street\, Williamsburg\, VA\, 23185\, United States
CATEGORIES:Beer
ATTACH;FMTTYPE=image/png:https://edgedistrictva.com/wp-content/uploads/2021/03/HalfPriceGrowlerFills7_16_20.png
END:VEVENT
BEGIN:VEVENT
DTSTART;TZID=America/New_York:20210630T150000
DTEND;TZID=America/New_York:20210630T210000
DTSTAMP:20260425T171727
CREATED:20210312T161934Z
LAST-MODIFIED:20210312T223707Z
UID:10000017-1625065200-1625086800@edgedistrictva.com
SUMMARY:Half Price Fills at Virginia Beer Company!
DESCRIPTION:Due to overwhelming demand\, Virginia Beer Company will be continuing to offer HALF PRICE FILLS every Wednesday (3-9 pm) and every Sunday (12-9 pm) throughout 2021!
URL:https://edgedistrictva.com/event/half-price-fills-at-virginia-beer-company/2021-06-30/
LOCATION:Virginia Beer Company\, 401 Second Street\, Williamsburg\, VA\, 23185\, United States
CATEGORIES:Beer
ATTACH;FMTTYPE=image/png:https://edgedistrictva.com/wp-content/uploads/2021/03/HalfPriceGrowlerFills7_16_20.png
END:VEVENT
BEGIN:VEVENT
DTSTART;TZID=America/New_York:20210627T120000
DTEND;TZID=America/New_York:20210627T210000
DTSTAMP:20260425T171727
CREATED:20230105T220555Z
LAST-MODIFIED:20230105T220555Z
UID:10000055-1624795200-1624827600@edgedistrictva.com
SUMMARY:Half Price Fills at Virginia Beer Company!
DESCRIPTION:Due to overwhelming demand\, Virginia Beer Company will be continuing to offer HALF PRICE FILLS every Wednesday (3-9 pm) and every Sunday (12-9 pm) throughout 2021!
URL:https://edgedistrictva.com/event/half-price-fills-at-virginia-beer-company/2021-06-27/
LOCATION:Virginia Beer Company\, 401 Second Street\, Williamsburg\, VA\, 23185\, United States
CATEGORIES:Beer
ATTACH;FMTTYPE=image/png:https://edgedistrictva.com/wp-content/uploads/2021/03/HalfPriceGrowlerFills7_16_20.png
END:VEVENT
BEGIN:VEVENT
DTSTART;TZID=America/New_York:20210623T150000
DTEND;TZID=America/New_York:20210623T210000
DTSTAMP:20260425T171727
CREATED:20210312T161934Z
LAST-MODIFIED:20210312T223707Z
UID:10000016-1624460400-1624482000@edgedistrictva.com
SUMMARY:Half Price Fills at Virginia Beer Company!
DESCRIPTION:Due to overwhelming demand\, Virginia Beer Company will be continuing to offer HALF PRICE FILLS every Wednesday (3-9 pm) and every Sunday (12-9 pm) throughout 2021!
URL:https://edgedistrictva.com/event/half-price-fills-at-virginia-beer-company/2021-06-23/
LOCATION:Virginia Beer Company\, 401 Second Street\, Williamsburg\, VA\, 23185\, United States
CATEGORIES:Beer
ATTACH;FMTTYPE=image/png:https://edgedistrictva.com/wp-content/uploads/2021/03/HalfPriceGrowlerFills7_16_20.png
END:VEVENT
BEGIN:VEVENT
DTSTART;TZID=America/New_York:20210620T120000
DTEND;TZID=America/New_York:20210620T210000
DTSTAMP:20260425T171727
CREATED:20230105T220555Z
LAST-MODIFIED:20230105T220555Z
UID:10000054-1624190400-1624222800@edgedistrictva.com
SUMMARY:Half Price Fills at Virginia Beer Company!
DESCRIPTION:Due to overwhelming demand\, Virginia Beer Company will be continuing to offer HALF PRICE FILLS every Wednesday (3-9 pm) and every Sunday (12-9 pm) throughout 2021!
URL:https://edgedistrictva.com/event/half-price-fills-at-virginia-beer-company/2021-06-20/
LOCATION:Virginia Beer Company\, 401 Second Street\, Williamsburg\, VA\, 23185\, United States
CATEGORIES:Beer
ATTACH;FMTTYPE=image/png:https://edgedistrictva.com/wp-content/uploads/2021/03/HalfPriceGrowlerFills7_16_20.png
END:VEVENT
BEGIN:VEVENT
DTSTART;TZID=America/New_York:20210616T150000
DTEND;TZID=America/New_York:20210616T210000
DTSTAMP:20260425T171727
CREATED:20210312T161934Z
LAST-MODIFIED:20210312T223707Z
UID:10000015-1623855600-1623877200@edgedistrictva.com
SUMMARY:Half Price Fills at Virginia Beer Company!
DESCRIPTION:Due to overwhelming demand\, Virginia Beer Company will be continuing to offer HALF PRICE FILLS every Wednesday (3-9 pm) and every Sunday (12-9 pm) throughout 2021!
URL:https://edgedistrictva.com/event/half-price-fills-at-virginia-beer-company/2021-06-16/
LOCATION:Virginia Beer Company\, 401 Second Street\, Williamsburg\, VA\, 23185\, United States
CATEGORIES:Beer
ATTACH;FMTTYPE=image/png:https://edgedistrictva.com/wp-content/uploads/2021/03/HalfPriceGrowlerFills7_16_20.png
END:VEVENT
BEGIN:VEVENT
DTSTART;TZID=America/New_York:20210613T120000
DTEND;TZID=America/New_York:20210613T210000
DTSTAMP:20260425T171727
CREATED:20230105T220555Z
LAST-MODIFIED:20230105T220555Z
UID:10000053-1623585600-1623618000@edgedistrictva.com
SUMMARY:Half Price Fills at Virginia Beer Company!
DESCRIPTION:Due to overwhelming demand\, Virginia Beer Company will be continuing to offer HALF PRICE FILLS every Wednesday (3-9 pm) and every Sunday (12-9 pm) throughout 2021!
URL:https://edgedistrictva.com/event/half-price-fills-at-virginia-beer-company/2021-06-13/
LOCATION:Virginia Beer Company\, 401 Second Street\, Williamsburg\, VA\, 23185\, United States
CATEGORIES:Beer
ATTACH;FMTTYPE=image/png:https://edgedistrictva.com/wp-content/uploads/2021/03/HalfPriceGrowlerFills7_16_20.png
END:VEVENT
BEGIN:VEVENT
DTSTART;TZID=America/New_York:20210609T150000
DTEND;TZID=America/New_York:20210609T210000
DTSTAMP:20260425T171727
CREATED:20210312T161934Z
LAST-MODIFIED:20210312T223707Z
UID:10000014-1623250800-1623272400@edgedistrictva.com
SUMMARY:Half Price Fills at Virginia Beer Company!
DESCRIPTION:Due to overwhelming demand\, Virginia Beer Company will be continuing to offer HALF PRICE FILLS every Wednesday (3-9 pm) and every Sunday (12-9 pm) throughout 2021!
URL:https://edgedistrictva.com/event/half-price-fills-at-virginia-beer-company/2021-06-09/
LOCATION:Virginia Beer Company\, 401 Second Street\, Williamsburg\, VA\, 23185\, United States
CATEGORIES:Beer
ATTACH;FMTTYPE=image/png:https://edgedistrictva.com/wp-content/uploads/2021/03/HalfPriceGrowlerFills7_16_20.png
END:VEVENT
BEGIN:VEVENT
DTSTART;TZID=America/New_York:20210606T120000
DTEND;TZID=America/New_York:20210606T210000
DTSTAMP:20260425T171727
CREATED:20230105T220555Z
LAST-MODIFIED:20230105T220555Z
UID:10000052-1622980800-1623013200@edgedistrictva.com
SUMMARY:Half Price Fills at Virginia Beer Company!
DESCRIPTION:Due to overwhelming demand\, Virginia Beer Company will be continuing to offer HALF PRICE FILLS every Wednesday (3-9 pm) and every Sunday (12-9 pm) throughout 2021!
URL:https://edgedistrictva.com/event/half-price-fills-at-virginia-beer-company/2021-06-06/
LOCATION:Virginia Beer Company\, 401 Second Street\, Williamsburg\, VA\, 23185\, United States
CATEGORIES:Beer
ATTACH;FMTTYPE=image/png:https://edgedistrictva.com/wp-content/uploads/2021/03/HalfPriceGrowlerFills7_16_20.png
END:VEVENT
BEGIN:VEVENT
DTSTART;VALUE=DATE:20210606
DTEND;VALUE=DATE:20210607
DTSTAMP:20260425T171727
CREATED:20210430T183432Z
LAST-MODIFIED:20210430T183432Z
UID:10000283-1622937600-1623023999@edgedistrictva.com
SUMMARY:Good Shot Judy at Cochon on 2nd!
DESCRIPTION:Join us June 6th for an evening of delicious food paired with the unforgettable sound of Good Shot Judy at Cochon on 2nd. Tickets will benefit Williamsburg Hospice House and will be limited.
URL:https://edgedistrictva.com/event/good-shot-judy-cochon-on-2nd/
LOCATION:Cochon on 2nd\, 311 2nd Street #106\, Williamsburg\, VA\, 23185\, United States
CATEGORIES:Dining,Music
ATTACH;FMTTYPE=image/png:https://edgedistrictva.com/wp-content/uploads/2021/04/GSJ-comingjune6-01.png
END:VEVENT
BEGIN:VEVENT
DTSTART;TZID=America/New_York:20210602T150000
DTEND;TZID=America/New_York:20210602T210000
DTSTAMP:20260425T171727
CREATED:20210312T161934Z
LAST-MODIFIED:20210312T223707Z
UID:10000013-1622646000-1622667600@edgedistrictva.com
SUMMARY:Half Price Fills at Virginia Beer Company!
DESCRIPTION:Due to overwhelming demand\, Virginia Beer Company will be continuing to offer HALF PRICE FILLS every Wednesday (3-9 pm) and every Sunday (12-9 pm) throughout 2021!
URL:https://edgedistrictva.com/event/half-price-fills-at-virginia-beer-company/2021-06-02/
LOCATION:Virginia Beer Company\, 401 Second Street\, Williamsburg\, VA\, 23185\, United States
CATEGORIES:Beer
ATTACH;FMTTYPE=image/png:https://edgedistrictva.com/wp-content/uploads/2021/03/HalfPriceGrowlerFills7_16_20.png
END:VEVENT
BEGIN:VEVENT
DTSTART;TZID=America/New_York:20210530T120000
DTEND;TZID=America/New_York:20210530T210000
DTSTAMP:20260425T171728
CREATED:20230105T220555Z
LAST-MODIFIED:20230105T220555Z
UID:10000051-1622376000-1622408400@edgedistrictva.com
SUMMARY:Half Price Fills at Virginia Beer Company!
DESCRIPTION:Due to overwhelming demand\, Virginia Beer Company will be continuing to offer HALF PRICE FILLS every Wednesday (3-9 pm) and every Sunday (12-9 pm) throughout 2021!
URL:https://edgedistrictva.com/event/half-price-fills-at-virginia-beer-company/2021-05-30/
LOCATION:Virginia Beer Company\, 401 Second Street\, Williamsburg\, VA\, 23185\, United States
CATEGORIES:Beer
ATTACH;FMTTYPE=image/png:https://edgedistrictva.com/wp-content/uploads/2021/03/HalfPriceGrowlerFills7_16_20.png
END:VEVENT
BEGIN:VEVENT
DTSTART;TZID=America/New_York:20210526T150000
DTEND;TZID=America/New_York:20210526T210000
DTSTAMP:20260425T171728
CREATED:20210312T161934Z
LAST-MODIFIED:20210312T223707Z
UID:10000012-1622041200-1622062800@edgedistrictva.com
SUMMARY:Half Price Fills at Virginia Beer Company!
DESCRIPTION:Due to overwhelming demand\, Virginia Beer Company will be continuing to offer HALF PRICE FILLS every Wednesday (3-9 pm) and every Sunday (12-9 pm) throughout 2021!
URL:https://edgedistrictva.com/event/half-price-fills-at-virginia-beer-company/2021-05-26/
LOCATION:Virginia Beer Company\, 401 Second Street\, Williamsburg\, VA\, 23185\, United States
CATEGORIES:Beer
ATTACH;FMTTYPE=image/png:https://edgedistrictva.com/wp-content/uploads/2021/03/HalfPriceGrowlerFills7_16_20.png
END:VEVENT
END:VCALENDAR