BEGIN:VCALENDAR
VERSION:2.0
PRODID:-//The Edge District VA - ECPv6.15.18//NONSGML v1.0//EN
CALSCALE:GREGORIAN
METHOD:PUBLISH
X-WR-CALNAME:The Edge District VA
X-ORIGINAL-URL:https://edgedistrictva.com
X-WR-CALDESC:Events for The Edge District VA
REFRESH-INTERVAL;VALUE=DURATION:PT1H
X-Robots-Tag:noindex
X-PUBLISHED-TTL:PT1H
BEGIN:VTIMEZONE
TZID:America/New_York
BEGIN:DAYLIGHT
TZOFFSETFROM:-0500
TZOFFSETTO:-0400
TZNAME:EDT
DTSTART:20200308T070000
END:DAYLIGHT
BEGIN:STANDARD
TZOFFSETFROM:-0400
TZOFFSETTO:-0500
TZNAME:EST
DTSTART:20201101T060000
END:STANDARD
BEGIN:DAYLIGHT
TZOFFSETFROM:-0500
TZOFFSETTO:-0400
TZNAME:EDT
DTSTART:20210314T070000
END:DAYLIGHT
BEGIN:STANDARD
TZOFFSETFROM:-0400
TZOFFSETTO:-0500
TZNAME:EST
DTSTART:20211107T060000
END:STANDARD
BEGIN:DAYLIGHT
TZOFFSETFROM:-0500
TZOFFSETTO:-0400
TZNAME:EDT
DTSTART:20220313T070000
END:DAYLIGHT
BEGIN:STANDARD
TZOFFSETFROM:-0400
TZOFFSETTO:-0500
TZNAME:EST
DTSTART:20221106T060000
END:STANDARD
END:VTIMEZONE
BEGIN:VEVENT
DTSTART;TZID=America/New_York:20210609T150000
DTEND;TZID=America/New_York:20210609T210000
DTSTAMP:20260425T200353
CREATED:20210312T161934Z
LAST-MODIFIED:20210312T223707Z
UID:10000014-1623250800-1623272400@edgedistrictva.com
SUMMARY:Half Price Fills at Virginia Beer Company!
DESCRIPTION:Due to overwhelming demand\, Virginia Beer Company will be continuing to offer HALF PRICE FILLS every Wednesday (3-9 pm) and every Sunday (12-9 pm) throughout 2021!
URL:https://edgedistrictva.com/event/half-price-fills-at-virginia-beer-company/2021-06-09/
LOCATION:Virginia Beer Company\, 401 Second Street\, Williamsburg\, VA\, 23185\, United States
CATEGORIES:Beer
ATTACH;FMTTYPE=image/png:https://edgedistrictva.com/wp-content/uploads/2021/03/HalfPriceGrowlerFills7_16_20.png
END:VEVENT
BEGIN:VEVENT
DTSTART;TZID=America/New_York:20210606T120000
DTEND;TZID=America/New_York:20210606T210000
DTSTAMP:20260425T200353
CREATED:20230105T220555Z
LAST-MODIFIED:20230105T220555Z
UID:10000052-1622980800-1623013200@edgedistrictva.com
SUMMARY:Half Price Fills at Virginia Beer Company!
DESCRIPTION:Due to overwhelming demand\, Virginia Beer Company will be continuing to offer HALF PRICE FILLS every Wednesday (3-9 pm) and every Sunday (12-9 pm) throughout 2021!
URL:https://edgedistrictva.com/event/half-price-fills-at-virginia-beer-company/2021-06-06/
LOCATION:Virginia Beer Company\, 401 Second Street\, Williamsburg\, VA\, 23185\, United States
CATEGORIES:Beer
ATTACH;FMTTYPE=image/png:https://edgedistrictva.com/wp-content/uploads/2021/03/HalfPriceGrowlerFills7_16_20.png
END:VEVENT
BEGIN:VEVENT
DTSTART;VALUE=DATE:20210606
DTEND;VALUE=DATE:20210607
DTSTAMP:20260425T200354
CREATED:20210430T183432Z
LAST-MODIFIED:20210430T183432Z
UID:10000283-1622937600-1623023999@edgedistrictva.com
SUMMARY:Good Shot Judy at Cochon on 2nd!
DESCRIPTION:Join us June 6th for an evening of delicious food paired with the unforgettable sound of Good Shot Judy at Cochon on 2nd. Tickets will benefit Williamsburg Hospice House and will be limited.
URL:https://edgedistrictva.com/event/good-shot-judy-cochon-on-2nd/
LOCATION:Cochon on 2nd\, 311 2nd Street #106\, Williamsburg\, VA\, 23185\, United States
CATEGORIES:Dining,Music
ATTACH;FMTTYPE=image/png:https://edgedistrictva.com/wp-content/uploads/2021/04/GSJ-comingjune6-01.png
END:VEVENT
BEGIN:VEVENT
DTSTART;TZID=America/New_York:20210602T150000
DTEND;TZID=America/New_York:20210602T210000
DTSTAMP:20260425T200354
CREATED:20210312T161934Z
LAST-MODIFIED:20210312T223707Z
UID:10000013-1622646000-1622667600@edgedistrictva.com
SUMMARY:Half Price Fills at Virginia Beer Company!
DESCRIPTION:Due to overwhelming demand\, Virginia Beer Company will be continuing to offer HALF PRICE FILLS every Wednesday (3-9 pm) and every Sunday (12-9 pm) throughout 2021!
URL:https://edgedistrictva.com/event/half-price-fills-at-virginia-beer-company/2021-06-02/
LOCATION:Virginia Beer Company\, 401 Second Street\, Williamsburg\, VA\, 23185\, United States
CATEGORIES:Beer
ATTACH;FMTTYPE=image/png:https://edgedistrictva.com/wp-content/uploads/2021/03/HalfPriceGrowlerFills7_16_20.png
END:VEVENT
BEGIN:VEVENT
DTSTART;TZID=America/New_York:20210530T120000
DTEND;TZID=America/New_York:20210530T210000
DTSTAMP:20260425T200354
CREATED:20230105T220555Z
LAST-MODIFIED:20230105T220555Z
UID:10000051-1622376000-1622408400@edgedistrictva.com
SUMMARY:Half Price Fills at Virginia Beer Company!
DESCRIPTION:Due to overwhelming demand\, Virginia Beer Company will be continuing to offer HALF PRICE FILLS every Wednesday (3-9 pm) and every Sunday (12-9 pm) throughout 2021!
URL:https://edgedistrictva.com/event/half-price-fills-at-virginia-beer-company/2021-05-30/
LOCATION:Virginia Beer Company\, 401 Second Street\, Williamsburg\, VA\, 23185\, United States
CATEGORIES:Beer
ATTACH;FMTTYPE=image/png:https://edgedistrictva.com/wp-content/uploads/2021/03/HalfPriceGrowlerFills7_16_20.png
END:VEVENT
BEGIN:VEVENT
DTSTART;TZID=America/New_York:20210526T150000
DTEND;TZID=America/New_York:20210526T210000
DTSTAMP:20260425T200354
CREATED:20210312T161934Z
LAST-MODIFIED:20210312T223707Z
UID:10000012-1622041200-1622062800@edgedistrictva.com
SUMMARY:Half Price Fills at Virginia Beer Company!
DESCRIPTION:Due to overwhelming demand\, Virginia Beer Company will be continuing to offer HALF PRICE FILLS every Wednesday (3-9 pm) and every Sunday (12-9 pm) throughout 2021!
URL:https://edgedistrictva.com/event/half-price-fills-at-virginia-beer-company/2021-05-26/
LOCATION:Virginia Beer Company\, 401 Second Street\, Williamsburg\, VA\, 23185\, United States
CATEGORIES:Beer
ATTACH;FMTTYPE=image/png:https://edgedistrictva.com/wp-content/uploads/2021/03/HalfPriceGrowlerFills7_16_20.png
END:VEVENT
BEGIN:VEVENT
DTSTART;TZID=America/New_York:20210523T120000
DTEND;TZID=America/New_York:20210523T210000
DTSTAMP:20260425T200354
CREATED:20230105T220555Z
LAST-MODIFIED:20230105T220555Z
UID:10000050-1621771200-1621803600@edgedistrictva.com
SUMMARY:Half Price Fills at Virginia Beer Company!
DESCRIPTION:Due to overwhelming demand\, Virginia Beer Company will be continuing to offer HALF PRICE FILLS every Wednesday (3-9 pm) and every Sunday (12-9 pm) throughout 2021!
URL:https://edgedistrictva.com/event/half-price-fills-at-virginia-beer-company/2021-05-23/
LOCATION:Virginia Beer Company\, 401 Second Street\, Williamsburg\, VA\, 23185\, United States
CATEGORIES:Beer
ATTACH;FMTTYPE=image/png:https://edgedistrictva.com/wp-content/uploads/2021/03/HalfPriceGrowlerFills7_16_20.png
END:VEVENT
BEGIN:VEVENT
DTSTART;TZID=America/New_York:20210519T150000
DTEND;TZID=America/New_York:20210519T210000
DTSTAMP:20260425T200354
CREATED:20210312T161934Z
LAST-MODIFIED:20210312T223707Z
UID:10000011-1621436400-1621458000@edgedistrictva.com
SUMMARY:Half Price Fills at Virginia Beer Company!
DESCRIPTION:Due to overwhelming demand\, Virginia Beer Company will be continuing to offer HALF PRICE FILLS every Wednesday (3-9 pm) and every Sunday (12-9 pm) throughout 2021!
URL:https://edgedistrictva.com/event/half-price-fills-at-virginia-beer-company/2021-05-19/
LOCATION:Virginia Beer Company\, 401 Second Street\, Williamsburg\, VA\, 23185\, United States
CATEGORIES:Beer
ATTACH;FMTTYPE=image/png:https://edgedistrictva.com/wp-content/uploads/2021/03/HalfPriceGrowlerFills7_16_20.png
END:VEVENT
BEGIN:VEVENT
DTSTART;TZID=America/New_York:20210516T120000
DTEND;TZID=America/New_York:20210516T210000
DTSTAMP:20260425T200354
CREATED:20230105T220555Z
LAST-MODIFIED:20230105T220555Z
UID:10000049-1621166400-1621198800@edgedistrictva.com
SUMMARY:Half Price Fills at Virginia Beer Company!
DESCRIPTION:Due to overwhelming demand\, Virginia Beer Company will be continuing to offer HALF PRICE FILLS every Wednesday (3-9 pm) and every Sunday (12-9 pm) throughout 2021!
URL:https://edgedistrictva.com/event/half-price-fills-at-virginia-beer-company/2021-05-16/
LOCATION:Virginia Beer Company\, 401 Second Street\, Williamsburg\, VA\, 23185\, United States
CATEGORIES:Beer
ATTACH;FMTTYPE=image/png:https://edgedistrictva.com/wp-content/uploads/2021/03/HalfPriceGrowlerFills7_16_20.png
END:VEVENT
BEGIN:VEVENT
DTSTART;TZID=America/New_York:20210512T150000
DTEND;TZID=America/New_York:20210512T210000
DTSTAMP:20260425T200354
CREATED:20210312T161934Z
LAST-MODIFIED:20210312T223707Z
UID:10000010-1620831600-1620853200@edgedistrictva.com
SUMMARY:Half Price Fills at Virginia Beer Company!
DESCRIPTION:Due to overwhelming demand\, Virginia Beer Company will be continuing to offer HALF PRICE FILLS every Wednesday (3-9 pm) and every Sunday (12-9 pm) throughout 2021!
URL:https://edgedistrictva.com/event/half-price-fills-at-virginia-beer-company/2021-05-12/
LOCATION:Virginia Beer Company\, 401 Second Street\, Williamsburg\, VA\, 23185\, United States
CATEGORIES:Beer
ATTACH;FMTTYPE=image/png:https://edgedistrictva.com/wp-content/uploads/2021/03/HalfPriceGrowlerFills7_16_20.png
END:VEVENT
BEGIN:VEVENT
DTSTART;TZID=America/New_York:20210509T120000
DTEND;TZID=America/New_York:20210509T210000
DTSTAMP:20260425T200354
CREATED:20230105T220555Z
LAST-MODIFIED:20230105T220555Z
UID:10000048-1620561600-1620594000@edgedistrictva.com
SUMMARY:Half Price Fills at Virginia Beer Company!
DESCRIPTION:Due to overwhelming demand\, Virginia Beer Company will be continuing to offer HALF PRICE FILLS every Wednesday (3-9 pm) and every Sunday (12-9 pm) throughout 2021!
URL:https://edgedistrictva.com/event/half-price-fills-at-virginia-beer-company/2021-05-09/
LOCATION:Virginia Beer Company\, 401 Second Street\, Williamsburg\, VA\, 23185\, United States
CATEGORIES:Beer
ATTACH;FMTTYPE=image/png:https://edgedistrictva.com/wp-content/uploads/2021/03/HalfPriceGrowlerFills7_16_20.png
END:VEVENT
BEGIN:VEVENT
DTSTART;TZID=America/New_York:20210509T113000
DTEND;TZID=America/New_York:20210509T150000
DTSTAMP:20260425T200354
CREATED:20210506T171909Z
LAST-MODIFIED:20210506T171909Z
UID:10000286-1620559800-1620572400@edgedistrictva.com
SUMMARY:Join Second Street this Mother's Day Weekend
DESCRIPTION:Join Second Street this Mother’s Day featuring their fantastic menu selections plus specials just for Mother’s Day!
URL:https://edgedistrictva.com/event/second-street-mothers-day/
LOCATION:Second Street an American Bistro\, 140 Second Street\, Williamsburg\, VA\, 23185\, United States
CATEGORIES:Dining
ATTACH;FMTTYPE=image/jpeg:https://edgedistrictva.com/wp-content/uploads/2021/05/SS-mothersday-eMail-2021.jpg
END:VEVENT
BEGIN:VEVENT
DTSTART;TZID=America/New_York:20210509T080000
DTEND;TZID=America/New_York:20210509T170000
DTSTAMP:20260425T200354
CREATED:20210430T184126Z
LAST-MODIFIED:20210430T184126Z
UID:10000285-1620547200-1620579600@edgedistrictva.com
SUMMARY:Celebrate Mother's Day with Cochon
DESCRIPTION:Celebrate the special woman in your life this Mother’s Day at Cochon. A delicious prix fixe Mother’s Day menu is available for $80 per person.
URL:https://edgedistrictva.com/event/celebrate-mothers-day-with-cochon/
LOCATION:Cochon on 2nd\, 311 2nd Street #106\, Williamsburg\, VA\, 23185\, United States
ATTACH;FMTTYPE=image/png:https://edgedistrictva.com/wp-content/uploads/2021/04/Mothers-day-menu-cochon-01-1.png
END:VEVENT
BEGIN:VEVENT
DTSTART;TZID=America/New_York:20210507T080000
DTEND;TZID=America/New_York:20210509T170000
DTSTAMP:20260425T200354
CREATED:20210430T183649Z
LAST-MODIFIED:20210507T150401Z
UID:10000284-1620374400-1620579600@edgedistrictva.com
SUMMARY:Mother's Day Meals To Go!
DESCRIPTION:Visit Moody’s Kitchen Mother’s Day Menu  for a special weekend menu to celebrate the wonderful moms out there. All Mother’s Day meals come with your choice of soup\, salad\, entrée and dessert.
URL:https://edgedistrictva.com/event/mothers-day-meals-to-go/
LOCATION:Moody’s Kitchen\, 7129 Merrimac Trail\, Williamsburg\, VA\, 23185\, United States
CATEGORIES:Dining
ATTACH;FMTTYPE=image/jpeg:https://edgedistrictva.com/wp-content/uploads/2021/01/edge-exteriors-moodys-1024.jpg
END:VEVENT
BEGIN:VEVENT
DTSTART;TZID=America/New_York:20210506T173000
DTEND;TZID=America/New_York:20210506T193000
DTSTAMP:20260425T200354
CREATED:20210428T194149Z
LAST-MODIFIED:20210428T210714Z
UID:10000282-1620322200-1620329400@edgedistrictva.com
SUMMARY:Spring Fling Art Show & Cocktail Reception
DESCRIPTION:Copper Fox Distillery is proud to invite you to our first annual Spring Fling Art Show featuring original works by Nancy Keyser. Meet Nancy and learn about her inspiration for the pieces featured this year. Whisky flights\, craft cocktails and complimentary light appetizers will be available.
URL:https://edgedistrictva.com/event/spring-fling-art-show-cocktail-reception/
LOCATION:Copper Fox Distillery\, 901 Capitol Landing Rd\, Williamsburg\, VA\, 23185\, United States
ATTACH;FMTTYPE=image/jpeg:https://edgedistrictva.com/wp-content/uploads/2021/04/Art-Show-poster.jpg
END:VEVENT
BEGIN:VEVENT
DTSTART;TZID=America/New_York:20210505T150000
DTEND;TZID=America/New_York:20210505T210000
DTSTAMP:20260425T200354
CREATED:20210312T161934Z
LAST-MODIFIED:20210312T223707Z
UID:10000009-1620226800-1620248400@edgedistrictva.com
SUMMARY:Half Price Fills at Virginia Beer Company!
DESCRIPTION:Due to overwhelming demand\, Virginia Beer Company will be continuing to offer HALF PRICE FILLS every Wednesday (3-9 pm) and every Sunday (12-9 pm) throughout 2021!
URL:https://edgedistrictva.com/event/half-price-fills-at-virginia-beer-company/2021-05-05/
LOCATION:Virginia Beer Company\, 401 Second Street\, Williamsburg\, VA\, 23185\, United States
CATEGORIES:Beer
ATTACH;FMTTYPE=image/png:https://edgedistrictva.com/wp-content/uploads/2021/03/HalfPriceGrowlerFills7_16_20.png
END:VEVENT
BEGIN:VEVENT
DTSTART;TZID=America/New_York:20210502T120000
DTEND;TZID=America/New_York:20210502T210000
DTSTAMP:20260425T200354
CREATED:20230105T220555Z
LAST-MODIFIED:20230105T220555Z
UID:10000047-1619956800-1619989200@edgedistrictva.com
SUMMARY:Half Price Fills at Virginia Beer Company!
DESCRIPTION:Due to overwhelming demand\, Virginia Beer Company will be continuing to offer HALF PRICE FILLS every Wednesday (3-9 pm) and every Sunday (12-9 pm) throughout 2021!
URL:https://edgedistrictva.com/event/half-price-fills-at-virginia-beer-company/2021-05-02/
LOCATION:Virginia Beer Company\, 401 Second Street\, Williamsburg\, VA\, 23185\, United States
CATEGORIES:Beer
ATTACH;FMTTYPE=image/png:https://edgedistrictva.com/wp-content/uploads/2021/03/HalfPriceGrowlerFills7_16_20.png
END:VEVENT
BEGIN:VEVENT
DTSTART;TZID=America/New_York:20210428T150000
DTEND;TZID=America/New_York:20210428T210000
DTSTAMP:20260425T200354
CREATED:20210312T161934Z
LAST-MODIFIED:20210312T223707Z
UID:10000008-1619622000-1619643600@edgedistrictva.com
SUMMARY:Half Price Fills at Virginia Beer Company!
DESCRIPTION:Due to overwhelming demand\, Virginia Beer Company will be continuing to offer HALF PRICE FILLS every Wednesday (3-9 pm) and every Sunday (12-9 pm) throughout 2021!
URL:https://edgedistrictva.com/event/half-price-fills-at-virginia-beer-company/2021-04-28/
LOCATION:Virginia Beer Company\, 401 Second Street\, Williamsburg\, VA\, 23185\, United States
CATEGORIES:Beer
ATTACH;FMTTYPE=image/png:https://edgedistrictva.com/wp-content/uploads/2021/03/HalfPriceGrowlerFills7_16_20.png
END:VEVENT
BEGIN:VEVENT
DTSTART;TZID=America/New_York:20210425T120000
DTEND;TZID=America/New_York:20210425T210000
DTSTAMP:20260425T200354
CREATED:20230105T220555Z
LAST-MODIFIED:20230105T220555Z
UID:10000046-1619352000-1619384400@edgedistrictva.com
SUMMARY:Half Price Fills at Virginia Beer Company!
DESCRIPTION:Due to overwhelming demand\, Virginia Beer Company will be continuing to offer HALF PRICE FILLS every Wednesday (3-9 pm) and every Sunday (12-9 pm) throughout 2021!
URL:https://edgedistrictva.com/event/half-price-fills-at-virginia-beer-company/2021-04-25/
LOCATION:Virginia Beer Company\, 401 Second Street\, Williamsburg\, VA\, 23185\, United States
CATEGORIES:Beer
ATTACH;FMTTYPE=image/png:https://edgedistrictva.com/wp-content/uploads/2021/03/HalfPriceGrowlerFills7_16_20.png
END:VEVENT
BEGIN:VEVENT
DTSTART;TZID=America/New_York:20210421T150000
DTEND;TZID=America/New_York:20210421T210000
DTSTAMP:20260425T200354
CREATED:20210312T161934Z
LAST-MODIFIED:20210312T223707Z
UID:10000007-1619017200-1619038800@edgedistrictva.com
SUMMARY:Half Price Fills at Virginia Beer Company!
DESCRIPTION:Due to overwhelming demand\, Virginia Beer Company will be continuing to offer HALF PRICE FILLS every Wednesday (3-9 pm) and every Sunday (12-9 pm) throughout 2021!
URL:https://edgedistrictva.com/event/half-price-fills-at-virginia-beer-company/2021-04-21/
LOCATION:Virginia Beer Company\, 401 Second Street\, Williamsburg\, VA\, 23185\, United States
CATEGORIES:Beer
ATTACH;FMTTYPE=image/png:https://edgedistrictva.com/wp-content/uploads/2021/03/HalfPriceGrowlerFills7_16_20.png
END:VEVENT
BEGIN:VEVENT
DTSTART;TZID=America/New_York:20210418T120000
DTEND;TZID=America/New_York:20210418T210000
DTSTAMP:20260425T200354
CREATED:20230105T220555Z
LAST-MODIFIED:20230105T220555Z
UID:10000045-1618747200-1618779600@edgedistrictva.com
SUMMARY:Half Price Fills at Virginia Beer Company!
DESCRIPTION:Due to overwhelming demand\, Virginia Beer Company will be continuing to offer HALF PRICE FILLS every Wednesday (3-9 pm) and every Sunday (12-9 pm) throughout 2021!
URL:https://edgedistrictva.com/event/half-price-fills-at-virginia-beer-company/2021-04-18/
LOCATION:Virginia Beer Company\, 401 Second Street\, Williamsburg\, VA\, 23185\, United States
CATEGORIES:Beer
ATTACH;FMTTYPE=image/png:https://edgedistrictva.com/wp-content/uploads/2021/03/HalfPriceGrowlerFills7_16_20.png
END:VEVENT
BEGIN:VEVENT
DTSTART;TZID=America/New_York:20210414T150000
DTEND;TZID=America/New_York:20210414T210000
DTSTAMP:20260425T200354
CREATED:20210312T161934Z
LAST-MODIFIED:20210312T223707Z
UID:10000006-1618412400-1618434000@edgedistrictva.com
SUMMARY:Half Price Fills at Virginia Beer Company!
DESCRIPTION:Due to overwhelming demand\, Virginia Beer Company will be continuing to offer HALF PRICE FILLS every Wednesday (3-9 pm) and every Sunday (12-9 pm) throughout 2021!
URL:https://edgedistrictva.com/event/half-price-fills-at-virginia-beer-company/2021-04-14/
LOCATION:Virginia Beer Company\, 401 Second Street\, Williamsburg\, VA\, 23185\, United States
CATEGORIES:Beer
ATTACH;FMTTYPE=image/png:https://edgedistrictva.com/wp-content/uploads/2021/03/HalfPriceGrowlerFills7_16_20.png
END:VEVENT
BEGIN:VEVENT
DTSTART;TZID=America/New_York:20210411T120000
DTEND;TZID=America/New_York:20210411T210000
DTSTAMP:20260425T200354
CREATED:20230105T220555Z
LAST-MODIFIED:20230105T220555Z
UID:10000044-1618142400-1618174800@edgedistrictva.com
SUMMARY:Half Price Fills at Virginia Beer Company!
DESCRIPTION:Due to overwhelming demand\, Virginia Beer Company will be continuing to offer HALF PRICE FILLS every Wednesday (3-9 pm) and every Sunday (12-9 pm) throughout 2021!
URL:https://edgedistrictva.com/event/half-price-fills-at-virginia-beer-company/2021-04-11/
LOCATION:Virginia Beer Company\, 401 Second Street\, Williamsburg\, VA\, 23185\, United States
CATEGORIES:Beer
ATTACH;FMTTYPE=image/png:https://edgedistrictva.com/wp-content/uploads/2021/03/HalfPriceGrowlerFills7_16_20.png
END:VEVENT
BEGIN:VEVENT
DTSTART;TZID=America/New_York:20210407T150000
DTEND;TZID=America/New_York:20210407T210000
DTSTAMP:20260425T200354
CREATED:20210312T161934Z
LAST-MODIFIED:20210312T223707Z
UID:10000005-1617807600-1617829200@edgedistrictva.com
SUMMARY:Half Price Fills at Virginia Beer Company!
DESCRIPTION:Due to overwhelming demand\, Virginia Beer Company will be continuing to offer HALF PRICE FILLS every Wednesday (3-9 pm) and every Sunday (12-9 pm) throughout 2021!
URL:https://edgedistrictva.com/event/half-price-fills-at-virginia-beer-company/2021-04-07/
LOCATION:Virginia Beer Company\, 401 Second Street\, Williamsburg\, VA\, 23185\, United States
CATEGORIES:Beer
ATTACH;FMTTYPE=image/png:https://edgedistrictva.com/wp-content/uploads/2021/03/HalfPriceGrowlerFills7_16_20.png
END:VEVENT
BEGIN:VEVENT
DTSTART;TZID=America/New_York:20210404T120000
DTEND;TZID=America/New_York:20210404T210000
DTSTAMP:20260425T200354
CREATED:20230105T220555Z
LAST-MODIFIED:20230105T220555Z
UID:10000043-1617537600-1617570000@edgedistrictva.com
SUMMARY:Half Price Fills at Virginia Beer Company!
DESCRIPTION:Due to overwhelming demand\, Virginia Beer Company will be continuing to offer HALF PRICE FILLS every Wednesday (3-9 pm) and every Sunday (12-9 pm) throughout 2021!
URL:https://edgedistrictva.com/event/half-price-fills-at-virginia-beer-company/2021-04-04/
LOCATION:Virginia Beer Company\, 401 Second Street\, Williamsburg\, VA\, 23185\, United States
CATEGORIES:Beer
ATTACH;FMTTYPE=image/png:https://edgedistrictva.com/wp-content/uploads/2021/03/HalfPriceGrowlerFills7_16_20.png
END:VEVENT
BEGIN:VEVENT
DTSTART;TZID=America/New_York:20210404T120000
DTEND;TZID=America/New_York:20210404T170000
DTSTAMP:20260425T200354
CREATED:20210312T120948Z
LAST-MODIFIED:20210312T161902Z
UID:10000300-1617537600-1617555600@edgedistrictva.com
SUMMARY:Easter at Cochon
DESCRIPTION:Cochon will be offering a 4 course Prix Fix Menu for $80 per person\, beginning at noon with the last seating at 5:00. \nCall 757-229-1199 to make your reservation.
URL:https://edgedistrictva.com/event/easter-at-cochon/
LOCATION:Cochon on 2nd\, 311 2nd Street #106\, Williamsburg\, VA\, 23185\, United States
CATEGORIES:Dining
ATTACH;FMTTYPE=image/png:https://edgedistrictva.com/wp-content/uploads/2021/03/90236c30-e8ea-44a7-8954-da2fd6d6fac1.png
END:VEVENT
BEGIN:VEVENT
DTSTART;TZID=America/New_York:20210402T110000
DTEND;TZID=America/New_York:20210404T200000
DTSTAMP:20260425T200354
CREATED:20210312T121432Z
LAST-MODIFIED:20210312T121432Z
UID:10000299-1617361200-1617566400@edgedistrictva.com
SUMMARY:Easter to-go at Moody's Kitchen
DESCRIPTION:Moody’s Kitchen is all geared up for your at-home celebration. If there is something that you want that is not on this menu\, just shout it out. They will happily custom-design your party around your exact preferences. \nIt is best to call Moody’s Kitchen to make any special arrangements at 757-229-1195. The early bird gets the worm.
URL:https://edgedistrictva.com/event/easter-to-go-at-moodys-kitchen/
LOCATION:Moody’s Kitchen\, 7129 Merrimac Trail\, Williamsburg\, VA\, 23185\, United States
ATTACH;FMTTYPE=image/png:https://edgedistrictva.com/wp-content/uploads/2021/03/ba9f9316-3224-43f0-b86e-24cad151fe29.png
END:VEVENT
BEGIN:VEVENT
DTSTART;TZID=America/New_York:20210331T150000
DTEND;TZID=America/New_York:20210331T210000
DTSTAMP:20260425T200354
CREATED:20210312T161934Z
LAST-MODIFIED:20210312T223707Z
UID:10000004-1617202800-1617224400@edgedistrictva.com
SUMMARY:Half Price Fills at Virginia Beer Company!
DESCRIPTION:Due to overwhelming demand\, Virginia Beer Company will be continuing to offer HALF PRICE FILLS every Wednesday (3-9 pm) and every Sunday (12-9 pm) throughout 2021!
URL:https://edgedistrictva.com/event/half-price-fills-at-virginia-beer-company/2021-03-31/
LOCATION:Virginia Beer Company\, 401 Second Street\, Williamsburg\, VA\, 23185\, United States
CATEGORIES:Beer
ATTACH;FMTTYPE=image/png:https://edgedistrictva.com/wp-content/uploads/2021/03/HalfPriceGrowlerFills7_16_20.png
END:VEVENT
BEGIN:VEVENT
DTSTART;TZID=America/New_York:20210328T120000
DTEND;TZID=America/New_York:20210328T210000
DTSTAMP:20260425T200354
CREATED:20230105T220555Z
LAST-MODIFIED:20230105T220555Z
UID:10000042-1616932800-1616965200@edgedistrictva.com
SUMMARY:Half Price Fills at Virginia Beer Company!
DESCRIPTION:Due to overwhelming demand\, Virginia Beer Company will be continuing to offer HALF PRICE FILLS every Wednesday (3-9 pm) and every Sunday (12-9 pm) throughout 2021!
URL:https://edgedistrictva.com/event/half-price-fills-at-virginia-beer-company/2021-03-28/
LOCATION:Virginia Beer Company\, 401 Second Street\, Williamsburg\, VA\, 23185\, United States
CATEGORIES:Beer
ATTACH;FMTTYPE=image/png:https://edgedistrictva.com/wp-content/uploads/2021/03/HalfPriceGrowlerFills7_16_20.png
END:VEVENT
BEGIN:VEVENT
DTSTART;TZID=America/New_York:20210324T150000
DTEND;TZID=America/New_York:20210324T210000
DTSTAMP:20260425T200354
CREATED:20210312T161934Z
LAST-MODIFIED:20210312T223707Z
UID:10000003-1616598000-1616619600@edgedistrictva.com
SUMMARY:Half Price Fills at Virginia Beer Company!
DESCRIPTION:Due to overwhelming demand\, Virginia Beer Company will be continuing to offer HALF PRICE FILLS every Wednesday (3-9 pm) and every Sunday (12-9 pm) throughout 2021!
URL:https://edgedistrictva.com/event/half-price-fills-at-virginia-beer-company/2021-03-24/
LOCATION:Virginia Beer Company\, 401 Second Street\, Williamsburg\, VA\, 23185\, United States
CATEGORIES:Beer
ATTACH;FMTTYPE=image/png:https://edgedistrictva.com/wp-content/uploads/2021/03/HalfPriceGrowlerFills7_16_20.png
END:VEVENT
END:VCALENDAR